Workbook

Sheet صورت وضعیت
A17: صندوق در اوراق بهادار با درآمد ثابت سام
A18: صورت وضعیت پرتفوی
A19: برای ماه منتهی به 1405/06/31

Sheet سهام
A1: صندوق در اوراق بهادار با درآمد ثابت سام
A2: صورت وضعیت پرتفوی
A3: برای ماه منتهی به 1405/06/31
A4: 1- سرمایه گذاری ها
A5: 1-1 سرمایه گذاری در سهام و حق تقدم سهام
E6: 1405/05/31 | K6: تغییرات طی دوره | S6: 1405/06/31
E7: تعداد | G7: بهای تمام شده | I7: خالص ارزش فروش | K7: خرید طی دوره | O7: فروش طی دوره | S7: تعداد | U7: قیمت بازار هر سهم | W7: بهای تمام شده | Y7: خالص ارزش فروش | AA7: درصد به کل دارایی ها
A8: نام شرکت | K8: تعداد | M8: بهای تمام شده | O8: تعداد | Q8: مبلغ فروش
A9: آلیاژ گستر هامون | E9: 837499 | G9: 3712372704 | I9: 3.5817183e+09 | K9: 0 | M9: 0 | O9: 0 | Q9: 0 | S9: 837499 | U9: 4960 | W9: 3712372704 | Y9: 4.1218847e+09 | AA9: =Y9/AF$11 -> 6.3566522e-05
A10: بازرسی مهندسی و صنعتی ایران | E10: 258421 | G10: 5903958513 | I10: 7.5747474e+09 | K10: 400000 | M10: 11843230904 | O10: 0 | Q10: 0 | S10: 658421 | U10: 26210 | W10: 17747189417 | Y10: 1.7123816e+10 | AA10: =Y10/AF$11 -> 0.00026407858
A11: زرین ذرت شاهرود | E11: 435000 | G11: 7501782408 | I11: 11395228680 | K11: 1015000 | M11: 0 | O11: -1 | Q11: 1 | S11: 1449999 | U11: 9630 | W11: 7501777234 | Y11: 1.3855553e+10 | AA11: =Y11/AF$11 -> 0.00021367635 | AF11: 64843640223857
A12: گروه مالی مهرگان تامین پارس | E12: 2284 | G12: 11586051 | I12: 21756909 | K12: 0 | M12: 0 | O12: 0 | Q12: 0 | S12: 2284 | U12: 11782 | W12: 11586051 | Y12: 26702073 | AA12: =Y12/AF$11 -> 4.117917e-07
A13: صنایع دامپروری و لبنی رضوی | E13: 0 | G13: 0 | I13: 0 | K13: 3910000 | M13: 37599962138 | O13: 0 | Q13: 0 | S13: 3910000 | U13: 11380 | W13: 37599962138 | Y13: 44151847466 | AA13: =Y13/AF$11 -> 0.00068089711
A14: تولید نیروی برق سبز منجیل | E14: 0 | G14: 0 | I14: 0 | K14: 375000 | M14: 6786646575 | O14: 0 | Q14: 0 | S14: 375000 | U14: 28680 | W14: 6786646575 | Y14: 10671863850 | AA14: =Y14/AF$11 -> 0.00016457842
A15: جمع | E15: =SUM(E9:E14) -> 1533204 | G15: =SUM(G9:G14) -> 17129699676 | I15: =SUM(I9:I14) -> 2.2573451e+10 | K15: =SUM(K9:K14) -> 5700000 | M15: =SUM(M9:M14) -> 56229839617 | O15: =SUM(O9:O14) -> -1 | Q15: =SUM(Q9:Q14) -> 1 | S15: =SUM(S9:S14) -> 7233203 | W15: =SUM(W9:W14) -> 73359534119 | Y15: =SUM(Y9:Y14) -> 8.9951667e+10 | AA15: =SUM(AA9:AA14) -> 0.0013872088

Sheet اوراق
A1: صندوق در اوراق بهادار با درآمد ثابت سام
A2: صورت وضعیت پرتفوی
A3: برای ماه منتهی به 1405/06/31
A4: 1-2-سرمایه‌گذاری در اوراق بهادار با درآمد ثابت یا علی‌الحساب
A5: اطلاعات اوراق با درآمد ثابت | P5: 1405/05/31 | V5: تغییرات طی دوره | AD5: 1405/06/31
D6: دارای مجوز از سازمان | F6: پذیرفته شده در بورس یا فرابورس | H6: تاریخ انتشار اوراق | J6: تاریخ سررسید | L6: نرخ سود اسمی | N6: نرخ سود موثر | P6: تعداد | R6: بهای تمام شده | T6: خالص ارزش فروش | V6: خرید طی دوره | Z6: فروش طی دوره
A7: نام اوراق | V7: تعداد | X7: بهای تمام شده | Z7: تعداد | AB7: مبلغ فروش | AD7: تعداد | AF7: قیمت بازار هر سهم | AH7: بهای تمام شده | AJ7: خالص ارزش فروش | AL7: درصد به کل دارایی ها
A8: سلف موازی برق گیلان071 | D8: بله | F8: بله | H8: 1405/02/30 | J8: 1407/02/30 | L8: 21 | N8: 21 | P8: 3000000 | R8: 3048009205651 | T8: 3184996581749 | V8: 0 | X8: 0 | Z8: 0 | AB8: 0 | AD8: 3000000 | AF8: 1080412 | AH8: 3048009205651 | AJ8: 3238888372653 | AL8: =AJ8/AM$8 -> 0.049949206 | AM8: 64843640223857
A9: سلف موازی متانول بوشهر071 | D9: بله | F9: بله | H9: 1405/05/14 | J9: 1407/05/14 | L9: 23 | N9: 23 | P9: 307100 | R9: 1500097512000 | T9: 1515067828627 | V9: 0 | X9: 0 | Z9: 0 | AB9: 0 | AD9: 307100 | AF9: 5032466 | AH9: 1500097512000 | AJ9: 1544349858430 | AL9: =AJ9/AM$8 -> 0.02381652
A10: سلف میلگرد تولیدی فراب | D10: بله | F10: بله | H10: 1405/02/14 | J10: 1407/02/14 | L10: 0 | N10: 0 | P10: 79700 | R10: 500370019440 | T10: 509099336191 | V10: 0 | X10: 0 | Z10: 0 | AB10: 0 | AD10: 79700 | AF10: 6955055 | AH10: 500370019440 | AJ10: 553916003034 | AL10: =AJ10/AM$8 -> 0.0085423335
A11: اسناد خزانه-م12بودجه02-050916 | D11: بله | F11: بله | H11: 1402/12/29 | J11: 1405/09/16 | L11: 0 | N11: 0 | P11: 470000 | R11: 282244300057 | T11: 426621898137 | V11: 0 | X11: 0 | Z11: 0 | AB11: 0 | AD11: 470000 | AF11: 930000 | AH11: 282244300057 | AJ11: 436862326875 | AL11: =AJ11/AM$8 -> 0.0067371654
A12: اسناد خزانه-م13بودجه02-051021 | D12: بله | F12: بله | H12: 1402/12/29 | J12: 1405/10/21 | L12: 0 | N12: 0 | P12: 338413 | R12: 189498181898 | T12: 298733989010 | V12: 0 | X12: 0 | Z12: 0 | AB12: 0 | AD12: 338413 | AF12: 906000 | AH12: 189498181898 | AJ12: 306435463065 | AL12: =AJ12/AM$8 -> 0.0047257597
A13: اسناد خزانه-م1-س.قوا03-060615 | D13: بله | F13: بله | H13: 1403/11/27 | J13: 1406/06/15 | L13: 0 | N13: 0 | P13: 113017 | R13: 77075689971 | T13: 79877644620 | V13: 0 | X13: 0 | Z13: 0 | AB13: 0 | AD13: 113017 | AF13: 725100 | AH13: 77075689971 | AJ13: 81904067134 | AL13: =AJ13/AM$8 -> 0.001263101
A14: اسناد خزانه-م2بودجه04-070614 | D14: بله | F14: بله | H14: 1404/08/27 | J14: 1407/04/16 | L14: 0 | N14: 0 | P14: 4318121 | R14: 1824427189515 | T14: 2164014908543 | V14: 41400 | X14: 20745640298 | Z14: 0 | AB14: 0 | AD14: 4359521 | AF14: 504870 | AH14: 1845172829813 | AJ14: 2199794578214 | AL14: =AJ14/AM$8 -> 0.0339246
A15: اسناد خزانه-م3بودجه04-070718 | D15: بله | F15: بله | H15: 1404/07/19 | J15: 1407/07/18 | L15: 0 | N15: 0 | P15: 197741 | R15: 94343255983 | T15: 96840404382 | V15: 0 | X15: 0 | Z15: 0 | AB15: 0 | AD15: 197741 | AF15: 488010 | AH15: 94343255983 | AJ15: 96447113760 | AL15: =AJ15/AM$8 -> 0.0014873797
A16: اسناد خزانه-م4بودجه04-070816 | D16: بله | F16: بله | H16: 1404/07/19 | J16: 1407/07/18 | L16: 0 | N16: 0 | P16: 797044 | R16: 374477005688 | T16: 378031563706 | V16: 0 | X16: 0 | Z16: 0 | AB16: 0 | AD16: 797044 | AF16: 477790 | AH16: 374477005688 | AJ16: 380612582073 | AL16: =AJ16/AM$8 -> 0.0058696979
A17: اسناد خزانه-م6بودجه04-071019 | D17: بله | F17: بله | H17: 1404/10/23 | J17: 1407/10/19 | L17: 0 | N17: 0 | P17: 1954030 | R17: 855256004386 | T17: 872976470795 | V17: 775428 | X17: 344536178671 | Z17: 0 | AB17: 0 | AD17: 2729458 | AF17: 444450 | AH17: 1199792183057 | AJ17: 1212447980838 | AL17: =AJ17/AM$8 -> 0.018698025
A18: اسناد خزانه-م7بودجه04-071110 | D18: بله | F18: بله | H18: 1404/11/11 | J18: 1407/11/10 | L18: 0 | N18: 0 | P18: 1776551 | R18: 766554516527 | T18: 778842604572 | V18: 896468 | X18: 390331949737 | Z18: 0 | AB18: 0 | AD18: 2673019 | AF18: 434100 | AH18: 1156886466264 | AJ18: 1159726603483 | AL18: =AJ18/AM$8 -> 0.017884971
A19: صکوک مرابحه بترانس710-3ماهه23% | D19: بله | F19: بله | H19: 1403/10/24 | J19: 1407/10/24 | L19: 23 | N19: 23 | P19: 400000 | R19: 400062500000 | T19: 399782500000 | V19: 0 | X19: 0 | Z19: 0 | AB19: 0 | AD19: 400000 | AF19: 1000000 | AH19: 400062500000 | AJ19: 399782500000 | AL19: =AJ19/AM$8 -> 0.0061653309
A20: صکوک مرابحه کگل711-3ماهه23% | D20: بله | F20: بله | H20: 1403/11/21 | J20: 1407/11/20 | L20: 23 | N20: 23 | P20: 600000 | R20: 570019179307 | T20: 599673750000 | V20: 0 | X20: 0 | Z20: 0 | AB20: 0 | AD20: 600000 | AF20: 1000000 | AH20: 570019179307 | AJ20: 599673750000 | AL20: =AJ20/AM$8 -> 0.0092479964
... A40: شهرداری شیراز | D40: خیر | F40: خیر | H40: 1404/06/18 | J40: 1407/12/28 | L40: 23 | N40: 23 | P40: 1000000 | R40: 1000000000000 | T40: 1000000000000 | V40: 0 | X40: 0 | Z40: 0 | AB40: 0 | AD40: 1000000 | AF40: 1000000 | AH40: 1000000000000 | AJ40: 1000000000000 | AL40: =AJ40/AM$8 -> 0.015421713
A41: جمع | P41: =SUM(P8:P40) -> 23055594 | R41: =SUM(R8:R40) -> 18549926298945 | T41: =SUM(T8:T40) -> 19055102845295 | V41: =SUM(V8:V40) -> 9898286 | X41: =SUM(X8:X40) -> 8578977287420 | Z41: =SUM(Z8:Z40) -> 0 | AB41: =SUM(AB8:AB40) -> 0 | AD41: =SUM(AD8:AD40) -> 32953880 | AH41: =SUM(AH8:AH40) -> 27128903586365 | AJ41: =SUM(AJ8:AJ40) -> 27549211634631 | AL41: =SUM(AL8:AL40) -> 0.42485603

Sheet مبالغ تخصیصی اوراق
A1: صندوق در اوراق بهادار با درآمد ثابت سام
A2: صورت وضعیت درآمدها
A3: برای ماه منتهی به 1405/06/31
A4: 1-2-2- مبالغ تخصیص یافته بابت خرید و نگهداری اوراق بهادار با درآمد ثابت (نرخ سود ترجیحی)
A5: طرف معامله | D5: نوع وابستگی | F5: نام ورقه بهادار | H5: تعداد اوراق | J5: بهای تمام شده اوراق | M5: مبلغ شناسایی شده بابت قرارداد خرید و نگهداری اوراق بهادار | O5: نرخ اسمی | Q5: میانگین نرخ بازده تا سررسید قراردادهای منعقده
A7: سایر | D7: سایر | F7: مرابحه الکترومادیرا-کیان | H7: 450000 | J7: 450270566736 | M7: 2254931506 | O7: 1000000 | Q7: 0.32
F8: مرابحه کرمان موتور- کیان | H8: 200000 | J8: 200000000000 | M8: 1707123283 | O8: 1000000 | Q8: 0.33
F9: مرابحه افق قلعه پارسیان060722 | H9: 500000 | J9: 500000000000 | M9: 4792239656 | O9: 1000000 | Q9: 0.409
F10: شهرداری شیراز | H10: 500000 | J10: 500000000000 | M10: 3390625000 | O10: 1000000 | Q10: 0.379
F11: شهرداری شیراز- طرح قطار شهری | H11: 1000000 | J11: 1000000000000 | M11: 9034560826 | O11: 1000000 | Q11: 0.43
F12: صکوک مرابحه بترانس710 | H12: 400000 | J12: 400062500000 | M12: 4014338645 | O12: 1000000 | Q12: 0.395
F13: صکوک مرابحه کگل711 | H13: 600000 | J13: 570019179307 | M13: 4537180305 | O13: 1000000 | Q13: 0.392
F14: مرابحه عام دولت270 | H14: 1422445 | J14: 1267498066150 | M14: 107649887 | O14: 1000000 | Q14: 0.405
F15: سلف میلگرد تولیدی فراب (عفراب31) | H15: 79700 | J15: 500370019440 | M15: 4400958989 | O15: 6392330 | Q15: 0.42
F16: سلف موازی برق گیلان071 | H16: 3000000 | J16: 3048009205651 | M16: 36883695654 | O16: 1044458 | Q16: 0.426
F17: سلف موازی متانول بوشهر071 | H17: 307100 | J17: 1500097512000 | M17: 5543028088 | O17: 4884720 | Q17: 0.42
F18: صکوک مرابحه بهوزان806-3ماهه23% | H18: 2000000 | J18: 19155383938 | O18: 1000000
F19: صکوک مرابحه کترام603-بدون ضامن | H19: 799990 | J19: 2000000000000 | O19: 999100
F20: صکوک مرابحه گل گهر76-3ماهه23% | H20: 3000000 | J20: 799644940559 | O20: 1000000 | Q20: 0.424
F21: مرابحه جهان ستاره آریا071024 | H21: 1000000 | J21: 3001406250000 | O21: 1000000 | Q21: 0.424

Sheet تعدیل قیمت
A1: صندوق در اوراق بهادار با درآمد ثابت سام
A2: صورت وضعیت پرتفوی
A3: برای ماه منتهی به 1405/06/31
A4: اوراق بهاداری که ارزش آنها در تاریخ گزارش تعدیل شده
A5: (بر اساس دستورالعمل نحوه تعیین قیمت خرید و فروش اوراق بهادار در صندوق های سرمایه گذاری)
C7: 1405/06/31
A8: نام اوراق بهادار | C8: تعداد | E8: قیمت پایانی | G8: قیمت تعدیل شده | I8: درصد تعدیل | K8: خالص ارزش فروش تعدیل شده | M8: ‫دلیل تعدیل
A9: صکوک مرابحه کگل711-3ماهه23% | C9: 600000 | E9: 950000 | G9: 1000000 | I9: 0.0526 | K9: =C9*G9*(1-0.00054375) -> 599673750000 | M9: نگهداری تا سررسید
A10: جمع | C10: =SUM(C9:C9) -> 600000 | K10: =SUM(K9:K9) -> 599673750000

Sheet اوراق مشتقه
A1: صندوق در اوراق بهادار با درآمد ثابت سام
A2: صورت وضعیت پرتفوی
A3: برای ماه منتهی به 1405/06/31
A4: اطلاعات آماری مرتبط با اوراق اختیار فروش تبعی خریداری شده توسط صندوق سرمایه گذاری
H5: 1405/05/31 | AB5: 1405/06/31
A6: نام سهام | H6: تعداد اوراق تبعی | L6: قیمت اعمال | P6: تاریخ اعمال | V6: نرخ سود موثر | AB6: تعداد اوراق تبعی | AH6: قیمت اعمال | AL6: تاریخ اعمال | AP6: نرخ سود موثر
A8: اطلاعات آماری مرتبط با موقعیت های اخذ شده در اوراق اختیار معامله توسط صندوق سرمایه گذاری:
B9: 1405/05/31 | X9: 1405/06/31
A10: نام سهام | B10: نوع اختیار | D10: نوع موقعیت | F10: استراتژی ماخوذه | J10: تعداد اوراق | N10: قیمت اعمال | R10: تاریخ اعمال | X10: نوع اختیار | AD10: نوع موقعیت | AJ10: استراتژی ماخوذه | AN10: تعداد اوراق | AR10: قیمت اعمال | AU10: تاریخ اعمال
F11: -

Sheet واحدهای صندوق
A1: صندوق در اوراق بهادار با درآمد ثابت سام
A2: صورت وضعیت پرتفوی
A3: برای ماه منتهی به 1405/06/31
A4: 1-3-سرمایه‌گذاری در واحدهای صندوق های سرمایه گذاری
E5: 1405/05/31 | K5: تغییرات طی دوره | S5: 1405/06/31
D6: تعداد واحد | G6: بهای تمام شده | I6: خالص ارزش فروش | K6: خرید/صدور طی دوره | O6: فروش/ابطال طی دوره | S6: تعداد | U6: قیمت ابطال هر واحد | W6: بهای تمام شده | Y6: خالص ارزش فروش | AA6: درصد به کل دارایی ها
A7: صندوق | K7: تعداد | M7: بهای تمام شده | O7: تعداد | Q7: مبلغ فروش
A8: صندوق س ارزش آفرین فولاد-سهام | D8: 1435332 | G8: 16956564425 | I8: 3.5923923e+10 | K8: 0 | M8: 0 | O8: 0 | Q8: 0 | S8: 1435332 | U8: 29000 | W8: 16956564425 | Y8: 4.1528891e+10 | AA8: =Y8/AD$8 -> 0.00064044664 | AD8: 64843640223857
A9: صندوق س تمشک نماد رشد-در صندوق | D9: 8856688 | G9: 289955441760 | I9: 4.2207218e+11 | K9: 0 | M9: 0 | O9: -8856688 | Q9: 450678728116 | S9: 0 | U9: 0 | W9: 0 | Y9: 0 | AA9: =Y9/AD$8 -> 0
A10: صندوق س زیتون نماد پایا- مختلط | D10: 20090449 | G10: 820424974785 | I10: 8.5057901e+11 | K10: 0 | M10: 0 | O10: 0 | Q10: 0 | S10: 20090449 | U10: 43825 | W10: 820424974785 | Y10: 8.7935234e+11 | AA10: =Y10/AD$8 -> 0.013561119
A11: صندوق س صنایع اعتبار1-بخشی | D11: 3800000 | G11: 49731296675 | I11: 87566732220 | K11: 0 | M11: 0 | O11: 0 | Q11: 0 | S11: 3800000 | U11: 24000 | W11: 49731296675 | Y11: 90990240000 | AA11: =Y11/AD$8 -> 0.0014032254
A12: صندوق س صنایع پاسارگاد1-بخشی | D12: 3000000 | G12: 30067350000 | I12: 29931000000 | K12: 0 | M12: 0 | O12: 0 | Q12: 0 | S12: 3000000 | U12: 10160 | W12: 30067350000 | Y12: 30409896000 | AA12: =Y12/AD$8 -> 0.00046897268
A13: صندوق س صنایع تمدن1-بخشی | D13: 3500000 | G13: 48839899972 | I13: 51268809900 | K13: 0 | M13: 0 | O13: 0 | Q13: 0 | S13: 3500000 | U13: 14650 | W13: 48839899972 | Y13: 51157067500 | AA13: =Y13/AD$8 -> 0.00078892961
A14: صندوق س صنایع کارآمد1-بخشی | D14: 2000000 | G14: 20044900000 | I14: 19954000000 | K14: 0 | M14: 0 | O14: 0 | Q14: 0 | S14: 2000000 | U14: 10366 | W14: 20044900000 | Y14: 20684316400 | AA14: =Y14/AD$8 -> 0.00031898759
A15: صندوق س. سهام ثروت هامون-س | D15: 5000000 | G15: 91184250095 | I15: 127421255500 | K15: 0 | M15: 0 | O15: 0 | Q15: 0 | S15: 5000000 | U15: 29100 | W15: 91184250095 | Y15: 145165350000 | AA15: =Y15/AD$8 -> 0.0022386983
A16: صندوق س. سهامی اکسیژن-س | D16: 5004778 | G16: 144423160662 | I16: 1.7201805e+11 | K16: 0 | M16: 0 | O16: 0 | Q16: 0 | S16: 5004778 | U16: 39600 | W16: 144423160662 | Y16: 1.9773337e+11 | AA16: =Y16/AD$8 -> 0.0030493873
A17: صندوق س. طلا کیمیا زرین کاردان | D17: 1865 | G17: 298614845 | I17: 3.3943249e+08 | K17: 226086 | M17: 44206284288 | O17: -219323 | Q17: 43048819461 | S17: 8628 | U17: 204287 | W17: 1749489492 | Y17: 1.7604731e+09 | AA17: =Y17/AD$8 -> 2.7149511e-05
A18: صندوق س. كالاي پارسيان | D18: 181 | G18: 249609738 | I18: 2.7081263e+08 | K18: 76255 | M18: 123149697603 | O18: -24370 | Q18: 38919313697 | S18: 52066 | U18: 1679990 | W18: 84976814868 | Y18: 8.7365395e+10 | AA18: =Y18/AD$8 -> 0.001347324
A19: صندوق س. کالای قلک | D19: 5000000 | G19: 50059999922 | I19: 59918012000 | K19: 0 | M19: 0 | O19: -4296338 | Q19: 57663496864 | S19: 703662 | U19: 13532 | W19: 7045063929 | Y19: 9.5105278e+09 | AA19: =Y19/AD$8 -> 0.00014666863
A20: صندوق س.انارنماد ارزش-درسهام | D20: 3069673 | G20: 91097072338 | I20: 1.1735932e+11 | K20: 0 | M20: 0 | O20: 0 | Q20: 0 | S20: 3069673 | U20: 40480 | W20: 91097072338 | Y20: 1.2397456e+11 | AA20: =Y20/AD$8 -> 0.0019119001
... A59: صندوق س صنایع آروین1-بخشی | D59: 0 | G59: 0 | I59: 0 | K59: 4300000 | M59: 50116648892 | O59: -4029453 | Q59: 50847132459 | S59: 270547 | U59: 12005 | W59: 3153234653 | Y59: 3.2404465e+09 | AA59: =Y59/AD$8 -> 4.9973236e-05
A60: جمع | D60: =SUM(D8:E59) -> 175156891 | E60: =SUM(E8:E18) -> 0 | G60: =SUM(G8:H59) -> 4620453762255 | I60: =SUM(I8:J59) -> 5.9246154e+12 | K60: =SUM(K8:L59) -> 63897485 | M60: =SUM(M8:N59) -> 3560899057824 | O60: =SUM(O8:P59) -> -52535416 | Q60: =SUM(Q8:R59) -> 2004585169310 | S60: =SUM(S8:T59) -> 186518960 | T60: =SUM(T8:T18) -> 0 | W60: =SUM(W8:X59) -> 6441146266081 | Y60: =SUM(Y8:Z59) -> 8.0899558e+12 | AA60: =SUM(AA8:AB59) -> 0.12476098 | AB60: =SUM(AB8:AB18) -> 0

Sheet سپرده
A1: صندوق در اوراق بهادار با درآمد ثابت سام
A2: صورت وضعیت پرتفوی
A3: برای ماه منتهی به 1405/06/31
A4: 1-4-سرمایه‌گذاری در سپرده‌ بانکی
D5: 1405/05/31 | F5: تغییرات طی دوره | J5: 1405/06/31
A6: سپرده های بانکی | D6: مبلغ | F6: افزایش | H6: کاهش | J6: مبلغ | L6: درصد به کل دارایی ها
A7: سپرده کوتاه مدت بانک خاورمیانه نیایش | D7: 81960867621 | F7: 16876082761672 | H7: 16950706719193 | J7: 7336910100 | L7: =J7/O$7 -> 0.00011314772 | N7: 7325921202288 | O7: 64843640223857
A8: سپرده کوتاه مدت بانک پاسارگاد جهان کودک | D8: 17477610 | F8: 1529180863170 | H8: 1529179720000 | J8: 18620780 | L8: =J8/O$7 -> 2.8716432e-07
A9: سپرده کوتاه مدت بانک گردشگری آپادانا | D9: 9760158 | F9: 38992096234 | H9: 38982620000 | J9: 19236392 | L9: =J9/O$7 -> 2.9665811e-07
A10: سپرده کوتاه مدت بانک دی یوسف آباد | D10: 5235601617 | F10: 926220326053 | H10: 675422225000 | J10: 256033702670 | L10: =J10/O$7 -> 0.0039484782
A11: سپرده کوتاه مدت بانک ملی بورس اوراق بهادار | D11: 15646200 | F11: 66443 | H11: 0 | J11: 15712643 | L11: =J11/O$7 -> 2.4231587e-07
A12: سپرده کوتاه مدت بانک گردشگری نیاوران | D12: 10242148 | F12: 2414351273873 | H12: 2414345490000 | J12: 16026021 | L12: =J12/O$7 -> 2.4714869e-07
A13: سپرده کوتاه مدت بانک ملت گلشهر | D13: 8318457 | F13: 704000035324 | H13: 504001175000 | J13: 200007178781 | L13: =J13/O$7 -> 0.0030844533
A14: سپرده کوتاه مدت بانک شهر کامرانیه | D14: 13918664 | F14: 88451976916 | H14: 88451425000 | J14: 14470580 | L14: =J14/O$7 -> 2.2316113e-07
A15: سپرده کوتاه مدت بانک صادرات سیدخندان | D15: 11819067 | F15: 50191 | H15: 0 | J15: 11869258 | L15: =J15/O$7 -> 1.8304429e-07
A16: سپرده کوتاه مدت بانک دی حافظ | D16: 11451172 | F16: 186227304793 | H16: 186131661918 | J16: 107094047 | L16: =J16/O$7 -> 1.6515736e-06
A17: سپرده کوتاه مدت بانک صادرات بوئین زهرا | D17: 9966616 | F17: 975143877941 | H17: 975142185000 | J17: 11659557 | L17: =J17/O$7 -> 1.7981034e-07
A18: سپرده بلند مدت بانک دی حافظ | D18: 100000000000 | F18: 0 | H18: 100000000000 | J18: 0 | L18: =J18/O$7 -> 0
A19: سپرده بلند مدت بانک دی حافظ | D19: 85850000000 | F19: 0 | H19: 85850000000 | J19: 0 | L19: =J19/O$7 -> 0
... A95: سپرده بلند مدت بانک پاسارگاد جهان کودک | D95: 0 | F95: 500000000000 | H95: 0 | J95: 500000000000 | L95: =J95/O$7 -> 0.0077108564
A96: جمع | D96: =SUM(D7:D95) -> 22064496029949 | F96: =SUM(F7:F95) -> 33600289108475 | H96: =SUM(H7:H95) -> 27035810712111 | J96: =SUM(J7:J95) -> 28628974426313 | L96: =SUM(L7:L95) -> 0.44150782

Sheet درآمد
A1: صندوق در اوراق بهادار با درآمد ثابت سام
A2: صورت وضعیت درآمدها
A3: برای ماه منتهی به 1405/6/31
A4: 2-درآمد حاصل از سرمایه گذاری ها
A5: شرح | D5: یادداشت | F5: مبلغ | H5: درصد از کل درآمدها | J5: درصد از کل دارایی ها
A6: درآمد حاصل از سرمایه گذاری در سهام و حق تقدم سهام | D6: 2-1 | F6: ='درآمد سرمایه گذاری در سهام'!I16 -> 11150902329 | H6: =F6/F11 -> 0.0073238949 | J6: =F6/11751716039385 -> 0.00094887438 | L6: 7325921202288
A7: درآمد حاصل از سرمایه گذاری در واحدهای صندوق های سرمایه گذاری | D7: 2-2 | F7: ='درآمد سرمایه گذاری در صندوق'!I63 -> 710183710259 | H7: =F7/F11 -> 0.46644753 | J7: =F7/11751716039385 -> 0.060432341
A8: درآمد حاصل از سرمایه گذاری در اوراق بهادار با درآمد ثابت | D8: 2-3 | F8: ='درآمد سرمایه گذاری در اوراق به'!I50 -> 172447380730 | H8: =F8/F11 -> 0.11326317 | J8: =F8/11751716039385 -> 0.01467423
A9: درآمد حاصل از سرمایه گذاری در سپرده بانکی و گواهی سپرده | D9: 2-4 | F9: ='درآمد سپرده بانکی'!D160 -> 628755193099 | H9: =F9/F11 -> 0.41296541 | J9: =F9/11751716039385 -> 0.053503266
A10: سایر درآمدها | D10: 2-5 | H10: =F10/F11 -> 0 | J10: =F10/11751716039385 -> 0
A11: جمع | F11: =SUM(F6:F10) -> 1522537186417 | H11: =SUM(H6:H10) -> 1 | J11: =SUM(J6:J10) -> 0.12955871

Sheet درآمد سرمایه گذاری در سهام
A1: صندوق در اوراق بهادار با درآمد ثابت سام
A2: صورت وضعیت درآمدها
A3: برای ماه منتهی به 1405/06/31
A4: 2-1-درآمد حاصل از سرمایه­گذاری در سهام و حق تقدم سهام
C5: طی ماه | M5: از ابتدای سال مالی تا پایان ماه
C6: درآمد سود سهام | E6: درآمد تغییر ارزش | G6: درآمد فروش | I6: جمع | M6: درآمد سود سهام | O6: درآمد تغییر ارزش | Q6: درآمد فروش | S6: جمع
A7: سهام | I7: مبلغ | K7: درصد از کل درآمدها | S7: مبلغ | U7: درصد از کل درآمدها
A8: زرین ذرت شاهرود | C8: 0 | E8: 2460329083 | G8: -5173 | I8: 2460323910 | M8: 0 | O8: 6353775355 | Q8: 1143059909 | S8: 7496835264
A9: آلیاژ گستر هامون | C9: 0 | E9: 540166336 | G9: 0 | I9: 540166336 | M9: 126748324 | O9: 424653843 | Q9: 392219850 | S9: 943622017
A10: هامون نایزه | C10: 0 | E10: 0 | G10: 0 | I10: 0 | M10: 299304512 | O10: 0 | Q10: -3195805484 | S10: -2896500972
A11: تولیدی کوچین | C11: 0 | E11: 0 | G11: 0 | I11: 0 | M11: 350760437 | O11: 0 | Q11: 8283497884 | S11: 8634258321
A12: گروه مالی مهرگان تامین پارس | C12: 2526480 | E12: 4945165 | G12: 0 | I12: 7471645 | M12: 2526480 | O12: 3585358 | Q12: 0 | S12: 6111838
A13: بازرسی مهندسی و صنعتی ایران | C13: 0 | E13: -2294162164 | G13: 0 | I13: -2294162164 | M13: 0 | O13: -623373274 | Q13: 0 | S13: -623373274
A14: تولید نیروی برق سبز منجیل | C14: 0 | E14: 3885217275 | G14: 0 | I14: 3885217275 | M14: 0 | O14: 3885217275 | Q14: 0 | S14: 3885217275
A15: صنایع دامپروری و لبنی رضوی | C15: 0 | E15: 6551885327 | G15: 0 | I15: 6551885327 | M15: 0 | O15: 6551885327 | Q15: 0 | S15: 6551885327
A16: جمع | C16: =SUM(C8:C15) -> 2526480 | E16: =SUM(E8:E15) -> 11148381022 | G16: =SUM(G8:G15) -> -5173 | I16: =SUM(I8:I15) -> 11150902329 | M16: =SUM(M8:M15) -> 779339753 | O16: =SUM(O8:O15) -> 16595743884 | Q16: =SUM(Q8:Q15) -> 6622972159 | S16: =SUM(S8:S15) -> 23998055796 | V16: -1.38

Sheet درآمد سرمایه گذاری در صندوق
A1: صندوق در اوراق بهادار با درآمد ثابت سام
A2: صورت وضعیت درآمدها
A3: برای ماه منتهی به 1405/6/31
A4: 2-2- درآمد حاصل از سرمایه­گذاری در واحدهای صندوق
E5: طی ماه | O5: ='درآمد سرمایه گذاری در سهام'!$M$5 -> از ابتدای سال مالی تا پایان ماه
C6: درآمد سود صندوق | E6: درآمد تغییر ارزش | G6: درآمد فروش | I6: جمع | M6: درآمد سود صندوق | O6: درآمد تغییر ارزش | Q6: درآمد فروش | S6: جمع
A7: صندوق | I7: مبلغ | K7: درصد از کل درآمدها | S7: مبلغ | T7: درصد از کل درآمدها
A8: صندوق س.پشتوانه طلای دماوند | C8: 0 | E8: -357186907 | G8: 824510423 | I8: 467323516 | M8: 0 | O8: 13670658 | Q8: 805123641 | S8: 818794299
A9: صندوق س.پشتوانه طلا آتش فیروزه | C9: 0 | E9: 16713544086 | G9: 910714473 | I9: 17624258559 | M9: 0 | O9: 17031990683 | Q9: 965372461 | S9: 17997363144
A10: صندوق س.پشتوانه طلادرخشان آبان | C10: 0 | E10: -162503653 | G10: 699934997 | I10: 537431344 | M10: 0 | O10: -15086204 | Q10: 821200579 | S10: 806114375
A11: صندوق س.پشتوانه طلای کیمیا | C11: 0 | E11: -304761534 | G11: 695022932 | I11: 390261398 | M11: 0 | O11: -2429899 | Q11: 1144709409 | S11: 1142279510
A12: صندوق س. کالای قلک | C12: 0 | E12: -7392548168 | G12: 14648560871 | I12: 7256012703 | M12: 0 | O12: 2465463909 | Q12: 14648560871 | S12: 17114024780
A13: صندوق س.پشتوانه طلا تابان تمدن | C13: 0 | E13: 20084972322 | G13: 1844541619 | I13: 21929513941 | M13: 0 | O13: 65104873819 | Q13: 2217427658 | S13: 67322301477
A14: صندوق س.كالاي زمرد بيدار | C14: 0 | E14: -3103123262 | G14: 7411746531 | I14: 4308623269 | M14: 0 | O14: -38426134 | Q14: 8785463288 | S14: 8747037154
A15: صندوق س.طلا زردیس خلیج فارس | C15: 0 | E15: -196648523 | G15: 941727537 | I15: 745079014 | M15: 0 | O15: -14228717 | Q15: 1056898002 | S15: 1042669285
A16: صندوق س. طلا کیمیا زرین کاردان | C16: 0 | E16: -29834007 | G16: 293409820 | I16: 263575813 | M16: 0 | O16: 10983638 | Q16: 344453323 | S16: 355436961
A17: صندوق س.كالاي زرگر كارآمد | C17: 0 | E17: 3052234791 | G17: 648771071 | I17: 3701005862 | M17: 0 | O17: 4744397249 | Q17: 487066110 | S17: 5231463359
A18: صندوق س.پشتوانه طلا آرمان آتی | C18: 0 | E18: -28140658 | G18: 147299904 | I18: 119159246 | M18: 0 | O18: -3540745 | Q18: 303947862 | S18: 300407117
A19: صندوق س.پشتوانه طلا نهایت نگر | C19: 0 | E19: -142226336 | G19: 371182513 | I19: 228956177 | M19: 0 | O19: 6983892 | Q19: 443488892 | S19: 450472784
... A62: صندوق س صنایع پاسارگاد1-بخشی | C62: 0 | E62: 478896000 | G62: 0 | I62: 478896000 | M62: 0 | O62: 342546000 | Q62: 0 | S62: 342546000
A63: جمع | C63: =SUM(C8:C62) -> 0 | E63: =SUM(E8:E62) -> 479670450378 | G63: =SUM(G8:G62) -> 230513259881 | I63: =SUM(I8:I62) -> 710183710259 | M63: =SUM(M8:M62) -> 0 | O63: =SUM(O8:O62) -> 1335181658926 | Q63: =SUM(Q8:Q62) -> 254866602343 | S63: =SUM(S8:S62) -> 1590048261269

Sheet درآمد سرمایه گذاری در اوراق به
A1: صندوق در اوراق بهادار با درآمد ثابت سام
A2: صورت وضعیت درآمدها
A3: برای ماه منتهی به 1405/06/31
A4: 2-3- درآمد حاصل از سرمایه­گذاری در اوراق بهادار با درآمد ثابت
C5: طی ماه | K5: ='درآمد سرمایه گذاری در سهام'!$M$5 -> از ابتدای سال مالی تا پایان ماه
A6: عنوان | C6: درآمد سود اوراق | E6: درآمد تغییر ارزش | G6: درآمد فروش | I6: جمع | K6: درآمد سود اوراق | M6: درآمد تغییر ارزش | O6: درآمد فروش | Q6: جمع
A7: اسناد خزانه-م1-س.قوا03-060615 | C7: 0 | E7: 2026422514 | G7: 0 | I7: 2026422514 | K7: 0 | M7: 4702251280 | O7: 63551119 | Q7: 4765802399
A8: مرابحه عام دولت228-ش.خ070521 | C8: 0 | E8: 0 | G8: 0 | I8: 0 | K8: 4575826732 | M8: 0 | O8: -2884002212 | Q8: 1691824520
A9: مرابحه عام دولت259-ش.خ070502 | C9: 0 | E9: 0 | G9: 0 | I9: 0 | K9: 10175321800 | M9: 0 | O9: -3150375000 | Q9: 7024946800
A10: اسناد خزانه-م4بودجه04-070816 | C10: 0 | E10: 2581018367 | G10: 0 | I10: 2581018367 | K10: 0 | M10: 6135576385 | O10: 684794763 | Q10: 6820371148
A11: صکوک اجاره فولاد065-بدون ضامن | C11: 0 | E11: 0 | G11: 0 | I11: 0 | K11: 781567951 | M11: 0 | O11: -299745000 | Q11: 481822951
A12: اسنادخزانه-م1بودجه02-050325 | C12: 0 | E12: 0 | G12: 0 | I12: 0 | K12: 0 | M12: 0 | O12: 1063322867 | Q12: 1063322867
A13: اسنادخزانه-م4بودجه02-051021 | C13: 0 | E13: 0 | G13: 0 | I13: 0 | K13: 0 | M13: 0 | O13: 50987198 | Q13: 50987198
A14: اسنادخزانه-م3بودجه02-050818 | C14: 0 | E14: 0 | G14: 0 | I14: 0 | K14: 0 | M14: 0 | O14: 1055676261 | Q14: 1055676261
A15: اسناد خزانه-م12بودجه02-050916 | C15: 0 | E15: 10240428738 | G15: 0 | I15: 10240428738 | K15: 0 | M15: 78962129116 | O15: 2296517409 | Q15: 81258646525
A16: اسناد خزانه-م13بودجه02-051021 | C16: 0 | E16: 7701474055 | G16: 0 | I16: 7701474055 | K16: 0 | M16: 57837156935 | O16: 2727016389 | Q16: 60564173324
A17: اسناد خزانه-م11بودجه02-050720 | C17: 0 | E17: 0 | G17: 0 | I17: 0 | K17: 0 | M17: 0 | O17: 1718865392 | Q17: 1718865392
A18: اسنادخزانه-م10بودجه02-051112 | C18: 0 | E18: 0 | G18: 0 | I18: 0 | K18: 0 | M18: 0 | O18: 20878050 | Q18: 20878050
... A39: مرابحه الکترومادیرا-کیان060626 | C39: 11617940701 | E39: 0 | G39: 0 | I39: 11617940701 | K39: 87907223034 | M39: -5600079 | O39: 0 | Q39: 87901622955
A40: صکوک مرابحه کترام603-بدون ضامن | C40: 0 | E40: -809534626 | G40: 0 | I40: -809534626 | K40: 0 | M40: -809534626 | O40: 0 | Q40: -809534626 | R40: 130744897279
A41: اسناد خزانه-م2بودجه04-070614 | C41: 0 | E41: 15034029373 | G41: 0 | I41: 15034029373 | K41: 0 | M41: 318975322976 | O41: 0 | Q41: 318975322976
A42: اسناد خزانه-م3بودجه04-070718 | C42: 0 | E42: -393290621 | G42: 0 | I42: -393290621 | K42: 0 | M42: 2103857777 | O42: 0 | Q42: 2103857777
A43: سلف میلگرد تولیدی فراب | C43: 0 | E43: 44816666843 | G43: 0 | I43: 44816666843 | K43: 19733332241 | M43: 53545983594 | O43: 0 | Q43: 53545983594
A44: اسناد خزانه-م6بودجه04-071019 | C44: 0 | E44: -5064668627 | G44: 0 | I44: -5064668627 | K44: 0 | M44: 12655797781 | O44: 0 | Q44: 12655797781 | R44: 6237880423
A45: اسناد خزانه-م7بودجه04-071110 | C45: 0 | E45: -9447950825 | G45: 0 | I45: -9447950825 | K45: 0 | M45: 2840137219 | O45: 0 | Q45: 2840137219
A46: سلف موازی برق گیلان071 | C46: 0 | E46: 53891790904 | G46: 0 | I46: 53891790904 | K46: 128498036472 | M46: 190879167002 | O46: 0 | Q46: 190879167002 | R46: 35008347530
A47: سلف موازی متانول بوشهر071 | C47: 0 | E47: 29282029803 | G47: 0 | I47: 29282029803 | K47: 18761018144 | M47: 44252346430 | O47: 0 | Q47: 44252346430
A48: اسنادخزانه-م2بودجه05-080308 | C48: 0 | E48: -99251347 | G48: 0 | I48: -99251347 | K48: 0 | M48: -99251347 | O48: 0 | Q48: -99251347 | R48: 46406913359
A49: صکوک مرابحه بهوزان806-3ماهه23% | C49: 0 | E49: -1087499999 | G49: 0 | I49: -1087499999 | K49: 0 | M49: -1087499999 | O49: 0 | Q49: -1087499999 | R49: 56361067307
A50: جمع | C50: =SUM(C7:C49) -> 257315878802 | E50: =SUM(E7:E49) -> -84868498072 | G50: =SUM(G7:G49) -> 0 | I50: =SUM(I7:I49) -> 172447380730 | K50: =SUM(K7:K49) -> 2666173444186 | M50: =SUM(M7:M49) -> 265107688234 | O50: =SUM(O7:O49) -> 4863282828 | Q50: =SUM(Q7:Q49) -> 2769152028391

Sheet درآمد سپرده بانکی
A1: صندوق در اوراق بهادار با درآمد ثابت سام
A2: صورت وضعیت درآمدها
A3: برای ماه منتهی به 1405/06/31
A4: 2-4- درآمد حاصل از سرمایه­گذاری در سپرده بانکی و گواهی سپرده
D5: طی ماه | F5: ='درآمد سرمایه گذاری در سهام'!$M$5 -> از ابتدای سال مالی تا پایان ماه
A6: نام سپرده بانکی | D6: سود سپرده بانکی | F6: سود سپرده بانکی
A7: سپرده کوتاه مدت بانک خاورمیانه نیایش | D7: 54338 | F7: 2199877
A8: سپرده کوتاه مدت بانک پاسارگاد جهان کودک | D8: 41272 | F8: 301963
A9: سپرده کوتاه مدت بانک گردشگری آپادانا | D9: 41447 | F9: 532427065
A10: سپرده کوتاه مدت بانک دی یوسف آباد | D10: 52080 | F10: 396834
A11: سپرده کوتاه مدت بانک ملی بورس اوراق بهادار | D11: 66443 | F11: 561038
A12: سپرده کوتاه مدت بانک گردشگری نیاوران | D12: 41014 | F12: 325313
A13: سپرده کوتاه مدت بانک ملت گلشهر | D13: 35324 | F13: 321966
A14: سپرده کوتاه مدت بانک شهر کامرانیه | D14: 59107 | F14: 455445
A15: سپرده کوتاه مدت بانک صادرات سیدخندان | D15: 50191 | F15: 388381
A16: سپرده کوتاه مدت بانک دی حافظ | D16: 48628 | F16: 439482
A17: سپرده بلند مدت بانک گردشگری آپادانا | D17: 0 | F17: 22218767090
A18: سپرده بلند مدت بانک ملت گلشهر | D18: 0 | F18: 10994151832
... A159: سپرده بلند مدت بانک پاسارگاد جهان کودک | D159: 890410958 | F159: 890410958
A160: جمع | D160: =SUM(D7:D159) -> 628755193099 | F160: =SUM(F7:F159) -> 3883959107315

Sheet سایر درآمدها
A1: صندوق در اوراق بهادار با درآمد ثابت سام
A2: صورت وضعیت درآمدها
A3: برای ماه منتهی به 1405/06/31
A4: 2-5- سایر درآمدها
D5: طی ماه | F5: ='درآمد سرمایه گذاری در سهام'!$M$5 -> از ابتدای سال مالی تا پایان ماه
A6: سایر درآمدها | D6: مبلغ | F6: مبلغ
A7: سایر درآمدها | D7: 142 | F7: 4088373
A8: معین برای سایر درآمدهای تنزیل سود بانک | D8: 0 | F8: 1029211264
A9: تعدیل کارمزد کارگزار | D9: 2467229614 | F9: 5346994075
A10: جمع | D10: =SUM(D7:D9) -> 2467229756 | F10: =SUM(F7:F9) -> 6380293712

Sheet درآمد سود سهام
A1: صندوق در اوراق بهادار با درآمد ثابت سام
A2: صورت وضعیت درآمدها
A3: برای ماه منتهی به 1405/06/31
A4: درآمد سود سهام
A5: نام سهام | C5: اطلاعات مجمع | I5: طی ماه | O5: ='درآمد سرمایه گذاری در سهام'!$M$5 -> از ابتدای سال مالی تا پایان ماه
C6: تاریخ تشکیل مجمع | E6: تعداد سهام متعلقه در زمان مجمع | G6: سود متعلق به هر سهم | I6: جمع درآمد سود سهام | K6: هزینه تنزیل | M6: خالص درآمد سود سهام | O6: جمع درآمد سود سهام | Q6: هزینه تنزیل | S6: خالص درآمد سود سهام
A7: آلیاژ گستر هامون | C7: 1405/04/30 | E7: 837499 | G7: 170 | I7: 0 | K7: 0 | M7: 0 | O7: 142374830 | Q7: 15626506 | S7: 126748324
A8: تولیدی کوچین | C8: 1405/02/10 | E8: 1475169 | G8: 271 | I8: 0 | K8: 0 | M8: 0 | O8: 399770799 | Q8: 49010362 | S8: 350760437
A9: گروه مالی مهرگان تامین پارس | C9: 1405/06/29 | E9: 2284 | G9: 1288 | I9: 2941792 | K9: 415312 | M9: 2526480 | O9: 2941792 | Q9: 415312 | S9: 2526480
A10: هامون نایزه | C10: 1405/04/06 | E10: 1228500 | G10: 270 | I10: 0 | K10: 0 | M10: 0 | O10: 331695000 | Q10: 32390488 | S10: 299304512
A11: جمع | I11: =SUM(I7:I10) -> 2941792 | K11: =SUM(K7:K10) -> 415312 | M11: =SUM(M7:M10) -> 2526480 | O11: =SUM(O7:O10) -> 876782421 | Q11: =SUM(Q7:Q10) -> 97442668 | S11: =SUM(S7:S10) -> 779339753
H16: 203431000
H17: 167236435
H18: 10388205829
H19: 420000

Sheet درآمد ناشی از تغییر قیمت اوراق
A1: صندوق در اوراق بهادار با درآمد ثابت سام
A2: صورت وضعیت درآمدها
A3: برای ماه منتهی به 1405/06/31
A4: درآمد ناشی از تغییر قیمت اوراق بهادار
A5: شرح | C5: طی ماه | K5: ='درآمد سرمایه گذاری در سهام'!$M$5 -> از ابتدای سال مالی تا پایان ماه
C6: تعداد | E6: خالص ارزش فروش | G6: ارزش دفتری | I6: سود و زیان ناشی از تغییر قیمت | K6: تعداد | M6: خالص ارزش فروش | O6: ارزش دفتری | Q6: سود و زیان ناشی از تغییر قیمت
A7: صندوق س.كالاي اميد ثروت ايران | C7: 11891 | E7: 12016638688 | G7: 12274400034 | I7: -257761345 | K7: 11891 | M7: 12016638688 | O7: 11527723999 | Q7: 488914689
A8: صندوق سکه طلای کیان | C8: 1120 | E8: 1268557022 | G8: 1303034557 | I8: -34477534 | K8: 1120 | M8: 1268557022 | O8: 1275068462 | Q8: -6511439
A9: صندوق طلای عیار مفید | C9: 22 | E9: 14502510 | G9: 14340062 | I9: 162448 | K9: 22 | M9: 14502510 | O9: 13922050 | Q9: 580460
A10: صندوق س. كالاي پارسيان | C10: 52066 | E10: 87365394908 | G10: 84998017764 | I10: 2367377144 | K10: 52066 | M10: 87365394908 | O10: 84976814868 | Q10: 2388580040
A11: بازرسی مهندسی و صنعتی ایران | C11: 658421 | E11: 17123816142 | G11: 19417978307 | I11: -2294162164 | K11: 658421 | M11: 17123816142 | O11: 17747189417 | Q11: -623373274
A12: صندوق س.پشتوانه سکه طلا کهربا | C12: 12041 | E12: 2736521369 | G12: 2743156148 | I12: -6634778 | K12: 12041 | M12: 2736521369 | O12: 2727576968 | Q12: 8944401
A13: صندوق س زیتون نماد پایا- مختلط | C13: 20090449 | E13: 879352341716 | G13: 850579010101 | I13: 28773331615 | K13: 20090449 | M13: 879352341716 | O13: 820430443845 | Q13: 58921897871
A14: صندوق س.انارنماد ارزش-درسهام | C14: 3069673 | E14: 123974564205 | G14: 117359320660 | I14: 6615243545 | K14: 3069673 | M14: 123974564205 | O14: 95089532821 | Q14: 28885031384
A15: س.خ.کمان کاریزما 35% تادیه | C15: 1266410 | E15: 724655622626 | G15: 727061223644 | I15: -2405601017 | K15: 1266410 | M15: 724655622626 | O15: 727061223644 | Q15: -2405601017
A16: صندوق س.پشتوانه طلای زرین آگاه | C16: 1866 | E16: 356351064 | G16: 387446943 | I16: -31095878 | K16: 1866 | M16: 356351064 | O16: 356660784 | Q16: -309719
A17: صندوق س.پشتوانه طلا زرفام آشنا | C17: 6533462 | E17: 1125643665878 | G17: 1040980559341 | I17: 84663106537 | K17: 6533462 | M17: 1125643665878 | O17: 1008133283891 | Q17: 117510381987
A18: صندوق سرمایه گذاری برلیان-سهام | C18: 897237 | E18: 40873615384 | G18: 36029832361 | I18: 4843783023 | K18: 897237 | M18: 40873615384 | O18: 23339047500 | Q18: 17534567884
... A95: صکوک مرابحه بهوزان806-3ماهه23% | C95: 2000000 | E95: 1998912500000 | G95: 2000000000000 | I95: -1087499999 | K95: 2000000 | M95: 1998912500000 | O95: 2000000000000 | Q95: -1087499999
A96: جمع | C96: =SUM(C7:C95) -> 225706043 | E96: =SUM(E7:E95) -> 34729119094220 | G96: =SUM(G7:G95) -> 34323168760928 | I96: =SUM(I7:I95) -> 405950333328 | K96: =SUM(K7:K95) -> 225706043 | M96: =SUM(M7:M95) -> 34729119094220 | O96: =SUM(O7:O95) -> 33112234003198 | Q96: =SUM(Q7:Q95) -> 1616885091044

Sheet درآمد اوراق بهادار
A1: صندوق در اوراق بهادار با درآمد ثابت سام
A2: صورت وضعیت درآمدها
A3: برای ماه منتهی به 1405/06/31
A4: سود اوراق بهادار با درآمد ثابت
A5: شرح | C5: طی ماه | M5: ='درآمد سرمایه گذاری در سهام'!$M$5 -> از ابتدای سال مالی تا پایان ماه
C6: تاریخ سررسید | E6: نرخ سود علی الحساب | G6: درآمد سود | I6: هزینه تنزیل | K6: خالص درآمد | M6: درآمد سود | O6: هزینه تنزیل | Q6: خالص درآمد
A7: صکوک مرابحه گل گهر76-3ماهه23% | C7: 1407/06/18 | E7: 23 | F7: 23 | G7: 19148948049 | I7: 0 | K7: 19148948049 | M7: 19148948049 | O7: 0 | Q7: 19148948049
A8: مرابحه عام دولت300-ش.خ080527 | C8: 1408/05/27 | E8: 23 | F8: 23 | G8: 21459339486 | I8: 0 | K8: 21459339486 | M8: 21459339486 | O8: 0 | Q8: 21459339486
A9: مرابحه عام دولت273-ش.خ071128 | C9: 1407/11/28 | E9: 23 | F9: 23 | G9: 66238001474 | I9: 0 | K9: 66238001474 | M9: 1076349239090 | O9: 0 | Q9: 1076349239090
A10: مرابحه عام دولت270-ش.خ071121 | C10: 1407/11/21 | E10: 23 | F10: 23 | G10: 25581323102 | I10: 0 | K10: 25581323102 | M10: 409761221560 | O10: 0 | Q10: 409761221560
A11: مرابحه عام دولت259-ش.خ070502 | C11: 1407/05/02 | E11: 23 | F11: 23 | G11: 0 | I11: 0 | K11: 0 | M11: 10175321800 | O11: 0 | Q11: 10175321800
A12: مرابحه عام دولت249-ش.خ060827 | C12: 1406/08/27 | E12: 23 | F12: 23 | G12: 5606328784 | I12: 0 | K12: 5606328784 | M12: 43258372528 | O12: 0 | Q12: 43258372528
A13: مرابحه عام دولت245-ش.خ070813 | C13: 1407/08/13 | E13: 23 | F13: 23 | G13: 2007548053 | I13: 0 | K13: 2007548053 | M13: 15298742063 | O13: 0 | Q13: 15298742063
A14: مرابحه عام دولت238-ش.خ061022 | C14: 1406/10/22 | E14: 23 | F14: 23 | G14: 5070385030 | I14: 0 | K14: 5070385030 | M14: 37927390752 | O14: 0 | Q14: 37927390752
A15: مرابحه عام دولت234-ش.خ070808 | C15: 1407/08/08 | E15: 23 | F15: 23 | G15: 435774830 | I15: 0 | K15: 435774830 | M15: 3221388946 | O15: 0 | Q15: 3221388946
A16: شهرداری شیراز | C16: 1407/12/28 | E16: 23 | F16: 23 | G16: 28568807392 | I16: 0 | K16: 28568807392 | M16: 225785735840 | O16: 0 | Q16: 225785735840
A17: مرابحه عام دولت230-ش.خ070628 | C17: 1407/06/28 | E17: 23 | F17: 23 | G17: 2074949790 | I17: 0 | K17: 2074949790 | M17: 18029150112 | O17: 0 | Q17: 18029150112
A18: مرابحه عام دولت229-ش.خ061028 | C18: 1406/10/28 | E18: 23 | F18: 23 | G18: 2422193525 | I18: 0 | K18: 2422193525 | M18: 21046336090 | O18: 0 | Q18: 21046336090
... A30: صکوک اجاره فولاد065-بدون ضامن | C30: 1406/05/22 | E30: 23 | F30: 23 | G30: 0 | I30: 0 | K30: 0 | M30: 781567951 | O30: 0 | Q30: 781567951
A31: سلف میلگرد تولیدی فراب | M31: 19733332241 | Q31: 19733332241
A32: سلف موازی برق گیلان071 | M32: 128498036472 | Q32: 128498036472
A33: سلف موازی متانول بوشهر071 | M33: 18761018144 | Q33: 18761018144
A34: جمع | G34: =SUM(G7:G30) -> 257315878802 | I34: 0 | K34: =SUM(K7:K33) -> 257315878802 | M34: =SUM(M7:M33) -> 2666173444186 | O34: 0 | Q34: =SUM(Q7:Q33) -> 2666173444186

Sheet درآمد ناشی از فروش
A1: صندوق در اوراق بهادار با درآمد ثابت سام
A2: صورت وضعیت درآمدها
A3: برای ماه منتهی به 1405/06/31
A4: سود(زیان) حاصل از فروش اوراق بهادار
A5: شرح | C5: طی ماه | K5: ='درآمد سرمایه گذاری در سهام'!$M$5 -> از ابتدای سال مالی تا پایان ماه
C6: تعداد | E6: خالص بهای فروش | G6: ارزش دفتری | I6: سود و زیان ناشی از فروش | K6: تعداد | M6: خالص بهای فروش | O6: ارزش دفتری | Q6: سود و زیان ناشی از فروش
A7: صندوق س.پشتوانه طلای دماوند | C7: 664938 | E7: 27118779035 | G7: 26294268612 | I7: 824510423 | K7: 704067 | M7: 28392431035 | O7: 27587307394 | Q7: 805123641
A8: صندوق س.پشتوانه طلا آتش فیروزه | C8: 757398 | E8: 30246116545 | G8: 29335402072 | I8: 910714473 | K8: 1069051 | M8: 40578328929 | O8: 39612956468 | Q8: 965372461
A9: صندوق س.پشتوانه طلادرخشان آبان | C9: 923001 | E9: 37628609618 | G9: 36928674621 | I9: 699934997 | K9: 1214725 | M9: 47452714685 | O9: 46631514106 | Q9: 821200579
A10: صندوق س.پشتوانه طلای کیمیا | C10: 943047 | E10: 28715131953 | G10: 28020109021 | I10: 695022932 | K10: 2491115 | M10: 67229021942 | O10: 66084312533 | Q10: 1144709409
A11: صندوق س. کالای قلک | C11: 4296338 | E11: 57663496864 | G11: 43014935993 | I11: 14648560871 | K11: 4296338 | M11: 57663496864 | O11: 43014935993 | Q11: 14648560871
A12: صندوق س.پشتوانه طلا تابان تمدن | C12: 63767 | E12: 5779491742 | G12: 3934950123 | I12: 1844541619 | K12: 87033 | M12: 7576541642 | O12: 5359113984 | Q12: 2217427658
A13: صندوق س.كالاي زمرد بيدار | C13: 4604470 | E13: 143431295803 | G13: 136019549272 | I13: 7411746531 | K13: 6797457 | M13: 200602496163 | O13: 191817032875 | Q13: 8785463288
A14: صندوق س.طلا زردیس خلیج فارس | C14: 1441417 | E14: 24259226087 | G14: 23317498550 | I14: 941727537 | K14: 2015933 | M14: 32522587820 | O14: 31465689818 | Q14: 1056898002
A15: صندوق س. طلا کیمیا زرین کاردان | C15: 219323 | E15: 43048819461 | G15: 42755409641 | I15: 293409820 | K15: 246938 | M15: 47465352561 | O15: 47120899238 | Q15: 344453323
A16: صندوق س.كالاي زرگر كارآمد | C16: 254783 | E16: 5765368711 | G16: 5116597640 | I16: 648771071 | K16: 415426 | M16: 8812827197 | O16: 8325761087 | Q16: 487066110
A17: صندوق س.پشتوانه طلا آرمان آتی | C17: 205968 | E17: 4350387031 | G17: 4203087127 | I17: 147299904 | K17: 3361956 | M17: 52616908424 | O17: 52312960562 | Q17: 303947862
A18: صندوق س.پشتوانه طلا نهایت نگر | C18: 146418 | E18: 11263597682 | G18: 10892415169 | I18: 371182513 | K18: 178592 | M18: 13369401678 | O18: 12925912786 | Q18: 443488892
... A65: مرابحه عام دولت202-ش.خ060530 | C65: 0 | E65: 0 | G65: 0 | I65: 0 | K65: 235000 | M65: 201910271352 | O65: 201520363687 | Q65: 389907665
A66: جمع | C66: =SUM(C7:C65) -> 52535417 | E66: =SUM(E7:E65) -> 2004585169311 | G66: =SUM(G7:G65) -> 1774071914603 | I66: =SUM(I7:I65) -> 230513254708 | K66: =SUM(K7:K65) -> 99023040 | M66: =SUM(M7:M65) -> 5153412956035 | O66: =SUM(O7:O65) -> 4887060098705 | Q66: =SUM(Q7:Q65) -> 266352857330

Sheet سود سپرده بانکی
A1: صندوق در اوراق بهادار با درآمد ثابت سام
A2: صورت وضعیت درآمدها
A3: برای ماه منتهی به 1405/06/31
A4: سود سپرده بانکی
A5: شرح | C5: طی ماه | I5: ='درآمد سرمایه گذاری در سهام'!$M$5 -> از ابتدای سال مالی تا پایان ماه
C6: درآمد سود | E6: هزینه تنزیل | G6: خالص درآمد | I6: درآمد سود | K6: هزینه تنزیل | M6: خالص درآمد
A7: سپرده کوتاه مدت بانک خاورمیانه نیایش | C7: 54338 | E7: 0 | G7: 54338 | I7: 2199877 | K7: 0 | M7: =I7-K7 -> 2199877
A8: سپرده کوتاه مدت بانک پاسارگاد جهان کودک | C8: 41272 | E8: 0 | G8: 41272 | I8: 301963 | K8: 0 | M8: =I8-K8 -> 301963
A9: سپرده کوتاه مدت بانک گردشگری آپادانا | C9: 41447 | E9: 0 | G9: 41447 | I9: 532427065 | K9: 0 | M9: =I9-K9 -> 532427065
A10: سپرده کوتاه مدت بانک دی یوسف آباد | C10: 52080 | E10: 0 | G10: 52080 | I10: 396834 | K10: 0 | M10: =I10-K10 -> 396834
A11: سپرده کوتاه مدت بانک ملی بورس اوراق بهادار | C11: 66443 | E11: 0 | G11: 66443 | I11: 561038 | K11: 0 | M11: =I11-K11 -> 561038
A12: سپرده کوتاه مدت بانک گردشگری نیاوران | C12: 41014 | E12: 0 | G12: 41014 | I12: 325313 | K12: 0 | M12: =I12-K12 -> 325313
A13: سپرده کوتاه مدت بانک ملت گلشهر | C13: 35324 | E13: 0 | G13: 35324 | I13: 321966 | K13: 0 | M13: =I13-K13 -> 321966
A14: سپرده کوتاه مدت بانک شهر کامرانیه | C14: 59107 | E14: 0 | G14: 59107 | I14: 455445 | K14: 0 | M14: =I14-K14 -> 455445
A15: سپرده کوتاه مدت بانک صادرات سیدخندان | C15: 50191 | E15: 0 | G15: 50191 | I15: 388381 | K15: 0 | M15: =I15-K15 -> 388381
A16: سپرده کوتاه مدت بانک دی حافظ | C16: 48628 | E16: 0 | G16: 48628 | I16: 439482 | K16: 0 | M16: =I16-K16 -> 439482
A17: سپرده بلند مدت بانک گردشگری آپادانا | C17: 0 | E17: 0 | G17: 0 | I17: 22218767090 | K17: 0 | M17: =I17-K17 -> 22218767090
A18: سپرده بلند مدت بانک ملت گلشهر | C18: 0 | E18: 0 | G18: 0 | I18: 10994151832 | K18: 0 | M18: =I18-K18 -> 10994151832
... A159: سپرده بلند مدت بانک پاسارگاد جهان کودک | C159: 890410958 | E159: 22413363 | G159: 867997595 | I159: 890410958 | K159: 22413363 | M159: =I159-K159 -> 867997595
A160: جمع | C160: =SUM(C7:C159) -> 628755193099 | E160: =SUM(E7:E159) -> 333875826 | G160: =SUM(G7:G159) -> 628421317273 | I160: =SUM(I7:I159) -> 3883959107315 | K160: =SUM(K7:K159) -> 3203644207 | M160: =SUM(M7:M159) -> 3880755463108
